BEGIN:VCALENDAR
VERSION:2.0
CALSCALE:GREGORIAN
PRODID:-//Diputació de Barcelona//DibaCMS//EN
BEGIN:VEVENT
UID:1559
DTSTAMP:20260420T174607
DTSTART:20260424T090000
DTEND:20260424T130000
SUMMARY:Servei de podologia
LOCATION:Consultori 
METHOD:PUBLISH
X-WR-CALNAME:pujalt@pujalt.cat
X-WR-TIMEZONE:Europe/Madrid
DESCRIPTION:Apropem el servei de podologia perquè puguis cuidar els teus peus sense haver de desplaçar-te lluny.

URI:https://www.pujalt.cat/actualitat/agenda/servei-de-podologia.html
CLASS:PUBLIC
END:VEVENT
END:VCALENDAR
