BEGIN:VCALENDAR
VERSION:2.0
CALSCALE:GREGORIAN
PRODID:-//Diputació de Barcelona//DibaCMS//EN
BEGIN:VEVENT
UID:1441
DTSTAMP:20260421T104826
DTSTART:20251118T130500
DTEND:20251118T140500
SUMMARY:Caixer mòbil - Generalitat CaixaBank
LOCATION:
METHOD:PUBLISH
X-WR-CALNAME:pujalt@pujalt.cat
X-WR-TIMEZONE:Europe/Madrid
DESCRIPTION:Banca Mòbil de Catalunya és un servei de la Generalitat de Catalunya que porta els caixers automàtics i els serveis financers als municipis que no disposen d'oficina bancària

URI:https://www.pujalt.cat/actualitat/calendari-bibliobus-i-caixers/caixer-mobil-generalitat-caixabank.html
CLASS:PUBLIC
END:VEVENT
END:VCALENDAR
